BEGIN:VCALENDAR
VERSION:2.0
PRODID:-//wp-events-plugin.com//7.2.3.1//EN
TZID:Europe/Berlin
X-WR-TIMEZONE:Europe/Berlin
BEGIN:VEVENT
UID:116@bibliodrama-gesellschaft.de
DTSTART;TZID=Europe/Berlin:20260620T094500
DTEND;TZID=Europe/Berlin:20260620T170000
DTSTAMP:20260420T153635Z
URL:https://bibliodrama-gesellschaft.de/wp/events/bibliodrama-2/
SUMMARY:Bibliodrama
DESCRIPTION:Höher\, schneller\, weiter – was macht wahre Größe aus?\n\
 nZu diesem Thema bieten wir ein Bibliodrama an\, dass sich genau mit diese
 r Frage im persönlichen\, gemeindlichen und gesellschaftlichen Kontext be
 schäftigt.\n\nGetränke und kleine Snacks gibt es. Wir werden ein Mitbrin
 gmittagessen haben\, zu dem Jede:r etwas beisteuert. Für unsere Materiali
 en und Ausgaben erheben wir einen Unkostenbeitrag in Form einer Spende.\n\
 nWir – Nicole und ich – freuen uns auf Dein Kommen.\n\nInfo und Anmeld
 ung:\n\nName : Christine Hein und Nicole Käufer\n\nE-Mail : nine2000@gels
 ennet.de
ATTACH;FMTTYPE=image/jpeg:https://bibliodrama-gesellschaft.de/wp/wp-conten
 t/uploads/2025/11/Logo_Bibliodrama_Bild-Wortmarke_4c.jpg
CATEGORIES:Workshop
LOCATION:Velbert\, Kreisiepen 7\, Velbert\, Nordrhein-Westfalen\, 42555\, R
 uhrgebiet\, Deutschland
X-APPLE-STRUCTURED-LOCATION;VALUE=URI;X-ADDRESS=Kreisiepen 7\, Velbert\, No
 rdrhein-Westfalen\, 42555\, Ruhrgebiet\, Deutschland;X-APPLE-RADIUS=100;X-
 TITLE=Velbert:geo:0,0
END:VEVENT
BEGIN:VTIMEZONE
TZID:Europe/Berlin
X-LIC-LOCATION:Europe/Berlin
BEGIN:DAYLIGHT
DTSTART:20260329T030000
TZOFFSETFROM:+0100
TZOFFSETTO:+0200
TZNAME:CEST
END:DAYLIGHT
END:VTIMEZONE
END:VCALENDAR