BEGIN:VCALENDAR
VERSION:2.0
PRODID:-//wp-events-plugin.com//7.2.3.1//EN
TZID:Europe/Berlin
X-WR-TIMEZONE:Europe/Berlin
BEGIN:VEVENT
UID:104@bibliodrama-gesellschaft.de
DTSTART;TZID=Europe/Berlin:20260425T093000
DTEND;TZID=Europe/Berlin:20260425T153000
DTSTAMP:20260304T205921Z
URL:https://bibliodrama-gesellschaft.de/wp/events/bibliodrama-tag/
SUMMARY:Bibliodrama-Tag
DESCRIPTION:Wir spielen die Emmaus Erzählung.\n\nKosten: 30€
ATTACH;FMTTYPE=image/jpeg:https://bibliodrama-gesellschaft.de/wp/wp-conten
 t/uploads/2025/11/Logo_Bibliodrama_Bild-Wortmarke_4c.jpg
CATEGORIES:Workshop
LOCATION:Pfarrer-Nardini-Heim\, Blumenstraße 38\, Neustadt \, Rheinland-Pf
 alz\, 67435\, Deutschland
X-APPLE-STRUCTURED-LOCATION;VALUE=URI;X-ADDRESS=Blumenstraße 38\, Neustadt
  \, Rheinland-Pfalz\, 67435\, Deutschland;X-APPLE-RADIUS=100;X-TITLE=Pfarr
 er-Nardini-Heim:geo:0,0
END:VEVENT
BEGIN:VTIMEZONE
TZID:Europe/Berlin
X-LIC-LOCATION:Europe/Berlin
BEGIN:DAYLIGHT
DTSTART:20260329T030000
TZOFFSETFROM:+0100
TZOFFSETTO:+0200
TZNAME:CEST
END:DAYLIGHT
END:VTIMEZONE
END:VCALENDAR