BEGIN:VCALENDAR
VERSION:2.0
PRODID:-//wp-events-plugin.com//7.2.3.1//EN
TZID:Europe/Berlin
X-WR-TIMEZONE:Europe/Berlin
BEGIN:VEVENT
UID:99@bibliodrama-gesellschaft.de
DTSTART;TZID=Europe/Berlin:20260710T160000
DTEND;TZID=Europe/Berlin:20260712T140000
DTSTAMP:20260116T212708Z
URL:https://bibliodrama-gesellschaft.de/wp/events/seele-atmendes-leben-in-
 der-menschen-und-in-der-tierwelt/
SUMMARY:Seele. Atmendes Leben in der Menschen- und in der Tierwelt
DESCRIPTION:Der Mensch als atmendes Leben (1.Mose 2\,7) - Gott als "Gott de
 s Atems in jedem Körper" (4.Mose 16\,22)\n\nBibliodramatische und spiritu
 elle Erkundungen\, körper- und geistorientiert\n\nAnmeeldungen schriftlic
 h oder Kontakt: 07454 / 883 0
ATTACH;FMTTYPE=image/jpeg:https://bibliodrama-gesellschaft.de/wp/wp-conten
 t/uploads/2025/11/Logo_Bibliodrama_Bild-Wortmarke_4c.jpg
CATEGORIES:Workshop
LOCATION:Berneuchener Haus Kloster Kirchberg\, Berneuchener Haus\, Sulz am 
 Neckar\, Baden Württemberg\, 72172\, Deutschland
X-APPLE-STRUCTURED-LOCATION;VALUE=URI;X-ADDRESS=Berneuchener Haus\, Sulz am
  Neckar\, Baden Württemberg\, 72172\, Deutschland;X-APPLE-RADIUS=100;X-TI
 TLE=Berneuchener Haus Kloster Kirchberg:geo:0,0
END:VEVENT
BEGIN:VTIMEZONE
TZID:Europe/Berlin
X-LIC-LOCATION:Europe/Berlin
BEGIN:DAYLIGHT
DTSTART:20260329T030000
TZOFFSETFROM:+0100
TZOFFSETTO:+0200
TZNAME:CEST
END:DAYLIGHT
END:VTIMEZONE
END:VCALENDAR