BEGIN:VCALENDAR
VERSION:2.0
PRODID:-//wp-events-plugin.com//7.2.3.1//EN
TZID:Europe/Berlin
X-WR-TIMEZONE:Europe/Berlin
BEGIN:VEVENT
UID:98@bibliodrama-gesellschaft.de
DTSTART;TZID=Europe/Berlin:20260612T173000
DTEND;TZID=Europe/Berlin:20260614T133000
DTSTAMP:20260116T212501Z
URL:https://bibliodrama-gesellschaft.de/wp/events/zum-thomas-evangelium-we
 r-das-all-erkennt-sich-selber-aber-nicht-der-verfehlt-das-ganze-werdet-vor
 uebergehende/
SUMMARY:Zum Thomas-Evangelium: "Wer das All erkennt\, sich selber aber nich
 t\, der verfehlt das Ganze " / "Werdet Vorübergehende"
DESCRIPTION:Das Thomasevangelium ist ein außerbiblisches frühes Zeugnis d
 er Jesusüberlieferung: mediative und auch szenische Übungen und Begegnun
 gen mit der Natur.\n\nZusammen mit Hannelore Morgenroth\, Gröbenzell\n\ne
 -mail: exhaus@ottilien.de
ATTACH;FMTTYPE=image/jpeg:https://bibliodrama-gesellschaft.de/wp/wp-conten
 t/uploads/2025/11/Logo_Bibliodrama_Bild-Wortmarke_4c.jpg
CATEGORIES:Workshop
LOCATION:Exerzitienhaus St. Ottilien\, Erzabtei 3\, St. Ottilien\, Bayern\,
  86941\, Deutschland
X-APPLE-STRUCTURED-LOCATION;VALUE=URI;X-ADDRESS=Erzabtei 3\, St. Ottilien\,
  Bayern\, 86941\, Deutschland;X-APPLE-RADIUS=100;X-TITLE=Exerzitienhaus St
 . Ottilien:geo:0,0
END:VEVENT
BEGIN:VTIMEZONE
TZID:Europe/Berlin
X-LIC-LOCATION:Europe/Berlin
BEGIN:DAYLIGHT
DTSTART:20260329T030000
TZOFFSETFROM:+0100
TZOFFSETTO:+0200
TZNAME:CEST
END:DAYLIGHT
END:VTIMEZONE
END:VCALENDAR